BEGIN:VCALENDAR
VERSION:2.0
PRODID:-//Carroll Broadcasting Company - ECPv5.6.0//NONSGML v1.0//EN
CALSCALE:GREGORIAN
METHOD:PUBLISH
X-WR-CALNAME:Carroll Broadcasting Company
X-ORIGINAL-URL:https://www.1380kcim.com
X-WR-CALDESC:Events for Carroll Broadcasting Company
BEGIN:VTIMEZONE
TZID:America/Chicago
BEGIN:DAYLIGHT
TZOFFSETFROM:-0600
TZOFFSETTO:-0500
TZNAME:CDT
DTSTART:20280312T080000
END:DAYLIGHT
BEGIN:STANDARD
TZOFFSETFROM:-0500
TZOFFSETTO:-0600
TZNAME:CST
DTSTART:20281105T070000
END:STANDARD
END:VTIMEZONE
BEGIN:VEVENT
DTSTART;TZID=America/Chicago:20280412T100000
DTEND;TZID=America/Chicago:20280412T120000
DTSTAMP:20260424T034129
CREATED:20231127T164207Z
LAST-MODIFIED:20231127T164207Z
UID:321477-1839146400-1839153600@www.1380kcim.com
SUMMARY:HEAL support group
DESCRIPTION:A support group for those living with incurable chronic illnesses that impact daily life. Examples include Long -COVID\, chronic pain\, autoimmune diseases including Chronic fatigue\, Fibromyalgia\, etc.
URL:https://www.1380kcim.com/event/heal-support-group-2024-02-14-2024-03-13/2028-04-12/
LOCATION:Exira Library Meeting room\, 114 W. Washington\, EXIRA\, IA\, 50076-7516\, United States
CATEGORIES:Community Calendar
ATTACH;FMTTYPE=image/jpeg:https://dehayf5mhw1h7.cloudfront.net/wp-content/uploads/sites/2030/2023/11/27090823/Heal.jpg
ORGANIZER;CN="Lydia%20Wahlert":MAILTO:lydiawahlert@gmail.com
END:VEVENT
BEGIN:VEVENT
DTSTART;TZID=America/Chicago:20280412T180000
DTEND;TZID=America/Chicago:20280412T200000
DTSTAMP:20260424T034129
CREATED:20231127T164204Z
LAST-MODIFIED:20231127T164204Z
UID:321335-1839175200-1839182400@www.1380kcim.com
SUMMARY:HEAL support group
DESCRIPTION:A support group for those living with incurable chronic illnesses that impact daily life. Examples include Long -COVID\, chronic pain\, autoimmune diseases including Chronic fatigue\, Fibromyalgia\, etc.
URL:https://www.1380kcim.com/event/heal-support-group/2028-04-12/
LOCATION:Exira Library Meeting room\, 114 W. Washington\, EXIRA\, IA\, 50076-7516\, United States
CATEGORIES:Community Calendar
ATTACH;FMTTYPE=image/jpeg:https://dehayf5mhw1h7.cloudfront.net/wp-content/uploads/sites/2030/2023/11/27090823/Heal.jpg
ORGANIZER;CN="Lydia%20Wahlert":MAILTO:lydiawahlert@gmail.com
END:VEVENT
BEGIN:VEVENT
DTSTART;TZID=America/Chicago:20280413T180000
DTEND;TZID=America/Chicago:20280413T190000
DTSTAMP:20260424T034129
CREATED:20230116T190256Z
LAST-MODIFIED:20230116T190256Z
UID:321629-1839261600-1839265200@www.1380kcim.com
SUMMARY:Lake City Betterment Monthly Meeting
DESCRIPTION:Join us for monthly meetings @ 6pm at City Hall to discuss\, plan\, &volunteer for upcoming events & activities in Lake City!
URL:https://www.1380kcim.com/event/lake-city-betterment-monthly-meeting/2028-04-13/
LOCATION:City Hall\, Lake City\, 105 N Center St\, Lake City\, 51449
CATEGORIES:Class/Workshop,Community Calendar
ATTACH;FMTTYPE=image/jpeg:https://dehayf5mhw1h7.cloudfront.net/wp-content/uploads/sites/2030/2023/01/16190256/15271855_1251842254854561_5165909433234307464_o.jpg
ORGANIZER;CN="Lake%20City%20Betterment%20Association":MAILTO:kenziegorden@gmail.com
GEO:42.2676751;-94.734145
X-APPLE-STRUCTURED-LOCATION;VALUE=URI;X-ADDRESS=City Hall Lake City 105 N Center St Lake City 51449;X-APPLE-RADIUS=500;X-TITLE=105 N Center St:geo:-94.734145,42.2676751
END:VEVENT
BEGIN:VEVENT
DTSTART;TZID=America/Chicago:20280417T170000
DTEND;TZID=America/Chicago:20280417T180000
DTSTAMP:20260424T034129
CREATED:20240304T165443Z
LAST-MODIFIED:20240304T165443Z
UID:322131-1839603600-1839607200@www.1380kcim.com
SUMMARY:Bereavement Support Group hosted by St. Anthony Regional Hospital
DESCRIPTION:Open to anyone in the community who has experienced the loss of a loved one. \nThis bereavement support group exists to provide a safe environment of willing\, invited sharing for those who have experienced the loss of a loved one. Through this group people find a common ground and learn about life and loss with the support of peers. \nWhere: St. Anthony Conference Room (located in the Surgery Center Building\, (not hospital building)\, on the 4th floor\nWhen: The 3rd Monday of each month from 5pm – 6pm
URL:https://www.1380kcim.com/event/bereavement-support-group-hosted-by-st-anthony-regional-hospital/2028-04-17/
LOCATION:St. Anthony Regional Hospital – Education Center\, 311 S. Clark St.\, Carroll\, IA\, 51401\, United States
CATEGORIES:Community Calendar
ATTACH;FMTTYPE=image/png:https://dehayf5mhw1h7.cloudfront.net/wp-content/uploads/sites/2030/2024/03/04105323/bereavement.png
END:VEVENT
BEGIN:VEVENT
DTSTART;TZID=America/Chicago:20280419T133000
DTEND;TZID=America/Chicago:20280419T143000
DTSTAMP:20260424T034129
CREATED:20230427T172904Z
LAST-MODIFIED:20230427T172904Z
UID:322173-1839763800-1839767400@www.1380kcim.com
SUMMARY:Alzheimer's Support Group
DESCRIPTION:Meets Every 3rd Wednesday of each month. \nCarroll Public Library / 118 E. 5th Street / Carroll \nCarroll Public Library Meeting Room \n1:30 to 2:30 pm \nSponsored by St. Anthony Nursing Home / 712-794-5291
URL:https://www.1380kcim.com/event/alzheimers-support-group/2028-04-19/
LOCATION:Carroll Library\, 118 E 5th Street\, Carroll\, IA\, 51401\, United States
CATEGORIES:Community Calendar
END:VEVENT
END:VCALENDAR