BEGIN:VCALENDAR
VERSION:2.0
PRODID:-//Carroll Broadcasting Company - ECPv5.6.0//NONSGML v1.0//EN
CALSCALE:GREGORIAN
METHOD:PUBLISH
X-WR-CALNAME:Carroll Broadcasting Company
X-ORIGINAL-URL:https://www.1380kcim.com
X-WR-CALDESC:Events for Carroll Broadcasting Company
BEGIN:VTIMEZONE
TZID:America/Chicago
BEGIN:DAYLIGHT
TZOFFSETFROM:-0600
TZOFFSETTO:-0500
TZNAME:CDT
DTSTART:20280312T080000
END:DAYLIGHT
BEGIN:STANDARD
TZOFFSETFROM:-0500
TZOFFSETTO:-0600
TZNAME:CST
DTSTART:20281105T070000
END:STANDARD
END:VTIMEZONE
BEGIN:VEVENT
DTSTART;TZID=America/Chicago:20280419T133000
DTEND;TZID=America/Chicago:20280419T143000
DTSTAMP:20260424T020621
CREATED:20230427T172904Z
LAST-MODIFIED:20230427T172904Z
UID:322173-1839763800-1839767400@www.1380kcim.com
SUMMARY:Alzheimer's Support Group
DESCRIPTION:Meets Every 3rd Wednesday of each month. \nCarroll Public Library / 118 E. 5th Street / Carroll \nCarroll Public Library Meeting Room \n1:30 to 2:30 pm \nSponsored by St. Anthony Nursing Home / 712-794-5291
URL:https://www.1380kcim.com/event/alzheimers-support-group/2028-04-19/
LOCATION:Carroll Library\, 118 E 5th Street\, Carroll\, IA\, 51401\, United States
CATEGORIES:Community Calendar
END:VEVENT
END:VCALENDAR